BEGIN:VCALENDAR
VERSION:2.0
PRODID:-//White Rose Aikikai - ECPv6.15.15//NONSGML v1.0//EN
CALSCALE:GREGORIAN
METHOD:PUBLISH
X-WR-CALNAME:White Rose Aikikai
X-ORIGINAL-URL:https://www.whiteroseaikido.com
X-WR-CALDESC:Events for White Rose Aikikai
REFRESH-INTERVAL;VALUE=DURATION:PT1H
X-Robots-Tag:noindex
X-PUBLISHED-TTL:PT1H
BEGIN:VTIMEZONE
TZID:Europe/London
BEGIN:DAYLIGHT
TZOFFSETFROM:+0000
TZOFFSETTO:+0100
TZNAME:BST
DTSTART:20230326T010000
END:DAYLIGHT
BEGIN:STANDARD
TZOFFSETFROM:+0100
TZOFFSETTO:+0000
TZNAME:GMT
DTSTART:20231029T010000
END:STANDARD
BEGIN:DAYLIGHT
TZOFFSETFROM:+0000
TZOFFSETTO:+0100
TZNAME:BST
DTSTART:20240331T010000
END:DAYLIGHT
BEGIN:STANDARD
TZOFFSETFROM:+0100
TZOFFSETTO:+0000
TZNAME:GMT
DTSTART:20241027T010000
END:STANDARD
BEGIN:DAYLIGHT
TZOFFSETFROM:+0000
TZOFFSETTO:+0100
TZNAME:BST
DTSTART:20250330T010000
END:DAYLIGHT
BEGIN:STANDARD
TZOFFSETFROM:+0100
TZOFFSETTO:+0000
TZNAME:GMT
DTSTART:20251026T010000
END:STANDARD
BEGIN:DAYLIGHT
TZOFFSETFROM:+0000
TZOFFSETTO:+0100
TZNAME:BST
DTSTART:20260329T010000
END:DAYLIGHT
BEGIN:STANDARD
TZOFFSETFROM:+0100
TZOFFSETTO:+0000
TZNAME:GMT
DTSTART:20261025T010000
END:STANDARD
BEGIN:DAYLIGHT
TZOFFSETFROM:+0000
TZOFFSETTO:+0100
TZNAME:BST
DTSTART:20270328T010000
END:DAYLIGHT
BEGIN:STANDARD
TZOFFSETFROM:+0100
TZOFFSETTO:+0000
TZNAME:GMT
DTSTART:20271031T010000
END:STANDARD
END:VTIMEZONE
BEGIN:VEVENT
DTSTART;VALUE=DATE:20260221
DTEND;VALUE=DATE:20260222
DTSTAMP:20260423T235443
CREATED:20251206T194140Z
LAST-MODIFIED:20251222T140602Z
UID:8392-1771632000-1771718399@www.whiteroseaikido.com
SUMMARY:Heseltine Shihan Weapons Lowestoft 2026
DESCRIPTION:Heseltine Shihan has been invited by Frank Burlingham Shihan to teach a weapons class at Broadland Aikido Club\, Lowestoft. 
URL:https://www.whiteroseaikido.com/events/heseltine-shihan-weapons-lowestoft-2026/
LOCATION:The East Anglian Martial Arts Centre\, 163 Bridge Road\, Lowestoft\, NR33 9JU
ORGANIZER;CN="Broadland Aikido Club":MAILTO:broadlandaikido@gmail.com
END:VEVENT
BEGIN:VEVENT
DTSTART;TZID=Europe/London:20251213T103000
DTEND;TZID=Europe/London:20251213T160000
DTSTAMP:20260423T235443
CREATED:20250104T192831Z
LAST-MODIFIED:20251222T135447Z
UID:8332-1765621800-1765641600@www.whiteroseaikido.com
SUMMARY:White Rose Aikikai Christmas Course
DESCRIPTION:A day course taught by founder and Principal Shane Riley Shihan. \nAll welcome to attend\, from any organisation.\n£25 adults\n£10 juniors and students\nPlease bring proof of current insurance. \nEvening get-together afterwards. Please let us know if you would like to attend that as we’ll need numbers in advance.
URL:https://www.whiteroseaikido.com/events/white-rose-aikikai-christmas-course-2025/
LOCATION:White Rose Aikikai Hombu Dojo\, Concourse 2\, RCM Business Centres\, Sandbeds Trading Estate\, Dewsbury Road\, Ossett\, West Yorkshire\, WF5 9ND\, United Kingdom
ORGANIZER;CN="White Rose Aikikai":MAILTO:mark@whiteroseaikido.com
END:VEVENT
BEGIN:VEVENT
DTSTART;TZID=Europe/London:20251115T103000
DTEND;TZID=Europe/London:20251115T160000
DTSTAMP:20260423T235443
CREATED:20250104T192618Z
LAST-MODIFIED:20251014T214923Z
UID:8330-1763202600-1763222400@www.whiteroseaikido.com
SUMMARY:British Aikido Board National Seminar North
DESCRIPTION:The British Aikido Board will hosting its Northern National Seminar in West Yorkshire once again. We’re pleased to say this year it will be held at our hombu dojo. \nFurthermore\,  our own Tony Heseltine Shihan will be one of the instructors on the day. This will be his second BAB national seminar in recent years\, having taught at the BAB National Weapons course in London in 2024.
URL:https://www.whiteroseaikido.com/events/british-aikido-board-national-north-2025/
LOCATION:White Rose Aikikai Hombu Dojo\, Concourse 2\, RCM Business Centres\, Sandbeds Trading Estate\, Dewsbury Road\, Ossett\, West Yorkshire\, WF5 9ND\, United Kingdom
ORGANIZER;CN="British Aikido Board":MAILTO:admin@bab.org.uk
END:VEVENT
BEGIN:VEVENT
DTSTART;TZID=Europe/London:20251024T190000
DTEND;TZID=Europe/London:20251024T210000
DTSTAMP:20260423T235443
CREATED:20251014T213756Z
LAST-MODIFIED:20251014T213756Z
UID:8374-1761332400-1761339600@www.whiteroseaikido.com
SUMMARY:Riley Shihan teaching at Prince Bishops and Durham University Aikido
DESCRIPTION:Riley Shihan will be teaching at one of our satellite dojos\, Prince Bishops and Durham University Aikido. This will be Sensei’s first visit of the new University year. All are welcome and he will no doubt be accompanied and supported by senior grades.
URL:https://www.whiteroseaikido.com/events/riley-shihan-teaching-at-prince-bishops-and-durham-university-aikido-oct-2025/
LOCATION:Durham University Maiden Castle Dojo\, The Graham Sports Centre\, Durham\, DH1 3SE
ORGANIZER;CN="Prince Bishops Aikido":MAILTO:princebishopsaikido@gmail.com
END:VEVENT
BEGIN:VEVENT
DTSTART;TZID=Europe/London:20251011T103000
DTEND;TZID=Europe/London:20251012T160000
DTSTAMP:20260423T235443
CREATED:20250104T194040Z
LAST-MODIFIED:20250616T011556Z
UID:8336-1760178600-1760284800@www.whiteroseaikido.com
SUMMARY:Shane Riley Shihan 50th Anniversary Seminar
DESCRIPTION:We will be holding a weekend seminar celebrating Riley Shihan’s 50th anniversary in aikido. \nThere will be an evening event on the Saturday night. Please let us know if you would like to attend this as we need numbers in advance. \n 
URL:https://www.whiteroseaikido.com/events/shane-riley-shihan-50th-anniversary-seminar/
LOCATION:White Rose Aikikai Hombu Dojo\, Concourse 2\, RCM Business Centres\, Sandbeds Trading Estate\, Dewsbury Road\, Ossett\, West Yorkshire\, WF5 9ND\, United Kingdom
ORGANIZER;CN="White Rose Aikikai":MAILTO:mark@whiteroseaikido.com
END:VEVENT
BEGIN:VEVENT
DTSTART;TZID=Europe/London:20250712T103000
DTEND;TZID=Europe/London:20250712T160000
DTSTAMP:20260423T235443
CREATED:20250104T192231Z
LAST-MODIFIED:20250104T195449Z
UID:8326-1752316200-1752336000@www.whiteroseaikido.com
SUMMARY:White Rose Aikikai Summer Course
DESCRIPTION:A day course taught by senior White Rose Aikikai instructors.\nAll welcome to attend\, from any organisation.\n£25 adults\n£10 juniors and students\nPlease bring proof of current insurance.
URL:https://www.whiteroseaikido.com/events/white-rose-aikikai-summer-course-4/
LOCATION:White Rose Aikikai Hombu Dojo\, Concourse 2\, RCM Business Centres\, Sandbeds Trading Estate\, Dewsbury Road\, Ossett\, West Yorkshire\, WF5 9ND\, United Kingdom
ORGANIZER;CN="White Rose Aikikai":MAILTO:mark@whiteroseaikido.com
END:VEVENT
BEGIN:VEVENT
DTSTART;TZID=Europe/London:20250629T100000
DTEND;TZID=Europe/London:20250629T160000
DTSTAMP:20260423T235443
CREATED:20250616T011423Z
LAST-MODIFIED:20250616T012621Z
UID:8369-1751191200-1751212800@www.whiteroseaikido.com
SUMMARY:Sensei Danford Teaching at Aikido Friendship Seminar 2025
DESCRIPTION:
URL:https://www.whiteroseaikido.com/events/sensei-danford-teaching-at-aikido-friendship-seminar-2025/
LOCATION:West Yorkshire
END:VEVENT
BEGIN:VEVENT
DTSTART;TZID=Europe/London:20250607T110000
DTEND;TZID=Europe/London:20250608T133000
DTSTAMP:20260423T235443
CREATED:20240717T232619Z
LAST-MODIFIED:20240717T232619Z
UID:8289-1749294000-1749389400@www.whiteroseaikido.com
SUMMARY:Lowestoft Course 2025
DESCRIPTION:Riley Shihan will be teaching a day and a half seminar at Broadland Aikido Club.
URL:https://www.whiteroseaikido.com/events/lowestoft-course-2025/
LOCATION:The East Anglian Martial Arts Centre\, 163 Bridge Road\, Lowestoft\, NR33 9JU
ORGANIZER;CN="Broadland Aikido Club":MAILTO:broadlandaikido@gmail.com
END:VEVENT
BEGIN:VEVENT
DTSTART;VALUE=DATE:20250501
DTEND;VALUE=DATE:20250506
DTSTAMP:20260423T235443
CREATED:20250104T194840Z
LAST-MODIFIED:20251222T140921Z
UID:8340-1746057600-1746489599@www.whiteroseaikido.com
SUMMARY:White Rose Aikikai Athens Visit
DESCRIPTION:Riley Shihan will be leading a group on another visit to Athens. He will be teaching at Athens Bushido Center.
URL:https://www.whiteroseaikido.com/events/white-rose-aikikai-athens-visit-2025/
LOCATION:West Yorkshire
END:VEVENT
BEGIN:VEVENT
DTSTART;TZID=Europe/London:20250315T103000
DTEND;TZID=Europe/London:20250315T160000
DTSTAMP:20260423T235443
CREATED:20250104T192038Z
LAST-MODIFIED:20260131T183950Z
UID:8324-1742034600-1742054400@www.whiteroseaikido.com
SUMMARY:White Rose Aikikai Spring Course
DESCRIPTION:A day course taught by senior White Rose instructors\nAll welcome to attend\, from any organisation.\n£25 adults\n£10 juniors and students\nPlease bring proof of current insurance.
URL:https://www.whiteroseaikido.com/events/white-rose-aikikai-spring-course-2025/
LOCATION:White Rose Aikikai Hombu Dojo\, Concourse 2\, RCM Business Centres\, Sandbeds Trading Estate\, Dewsbury Road\, Ossett\, West Yorkshire\, WF5 9ND\, United Kingdom
ORGANIZER;CN="White Rose Aikikai":MAILTO:mark@whiteroseaikido.com
END:VEVENT
BEGIN:VEVENT
DTSTART;TZID=Europe/London:20250301T143000
DTEND;TZID=Europe/London:20250302T130000
DTSTAMP:20260423T235443
CREATED:20250208T195741Z
LAST-MODIFIED:20251222T141530Z
UID:8345-1740839400-1740920400@www.whiteroseaikido.com
SUMMARY:Riley Shihan Teaching in Cambridge
DESCRIPTION:Riley Shihan has been invited to teach over a weekend in Cambridge by Cambridge Aiki Dojo. \nAll welcome to attend \nSaturday 1st March\n2:30pm -5:30pm\nSunday 2nd March\n10am-1pm
URL:https://www.whiteroseaikido.com/events/riley-shihan-teaching-in-cambridge-2025/
LOCATION:North Cambridge Academy\, Arbury Road\, Cambridge\, CB4 2JF
ORGANIZER;CN="Cambridge Aiki Dojo":MAILTO:cambridgeaikidojo@yahoo.co.uk
END:VEVENT
BEGIN:VEVENT
DTSTART;TZID=Europe/London:20250221T190000
DTEND;TZID=Europe/London:20250221T210000
DTSTAMP:20260423T235443
CREATED:20250208T200448Z
LAST-MODIFIED:20250208T200508Z
UID:8354-1740164400-1740171600@www.whiteroseaikido.com
SUMMARY:Riley Shihan teaching at Prince Bishops and Durham University Aikido
DESCRIPTION:Riley Shihan will be teaching at one of our satellite dojos\, Prince Bishops and Durham University Aikido. This will be Sensei’s first visit of the new year. All are welcome and he will no doubt be accompanied and supported by senior grades.
URL:https://www.whiteroseaikido.com/events/riley-shihan-teaching-at-prince-bishops-and-durham-university-aikido-feb-2025/
LOCATION:Durham University Maiden Castle Dojo\, The Graham Sports Centre\, Durham\, DH1 3SE
ORGANIZER;CN="Prince Bishops Aikido":MAILTO:princebishopsaikido@gmail.com
END:VEVENT
BEGIN:VEVENT
DTSTART;TZID=Europe/London:20250209T103000
DTEND;TZID=Europe/London:20250209T160000
DTSTAMP:20260423T235443
CREATED:20250104T191902Z
LAST-MODIFIED:20250104T193458Z
UID:8322-1739097000-1739116800@www.whiteroseaikido.com
SUMMARY:White Rose Aikikai Yudansha Course
DESCRIPTION:A day’s course open to 1st kyu and above\, taught by Riley Shihan at White Rose hombu dojo. \nAll welcome to attend\, from any organisation.\n£25 adults\n£10 juniors and students\nPlease bring proof of current insurance.
URL:https://www.whiteroseaikido.com/events/white-rose-aikikai-yudansha-course-7/
LOCATION:White Rose Aikikai Hombu Dojo\, Concourse 2\, RCM Business Centres\, Sandbeds Trading Estate\, Dewsbury Road\, Ossett\, West Yorkshire\, WF5 9ND\, United Kingdom
ORGANIZER;CN="White Rose Aikikai":MAILTO:mark@whiteroseaikido.com
END:VEVENT
BEGIN:VEVENT
DTSTART;TZID=Europe/London:20241222T110000
DTEND;TZID=Europe/London:20241222T130000
DTSTAMP:20260423T235443
CREATED:20240326T150649Z
LAST-MODIFIED:20240326T150700Z
UID:8262-1734865200-1734872400@www.whiteroseaikido.com
SUMMARY:Weapons Class
DESCRIPTION:A two hour weapons class taught by Sensei Wilson.
URL:https://www.whiteroseaikido.com/events/weapons-class-15/
LOCATION:White Rose Aikikai Old Hombu Dojo\, 1A North Rd\, Dewsbury\, WF13 3AB
ORGANIZER;CN="White Rose Aikikai":MAILTO:mark@whiteroseaikido.com
END:VEVENT
BEGIN:VEVENT
DTSTART;TZID=Europe/London:20241214T103000
DTEND;TZID=Europe/London:20241214T160000
DTSTAMP:20260423T235443
CREATED:20240102T142427Z
LAST-MODIFIED:20241029T213547Z
UID:8222-1734172200-1734192000@www.whiteroseaikido.com
SUMMARY:White Rose Aikikai Christmas Course
DESCRIPTION:A day course taught by founder and Principal Shane Riley Shihan. \nAll welcome to attend\, from any organisation.\n£25 adults\n£10 juniors and students\nPlease bring proof of current insurance. \nEvening get-together at the evening at the Liversidge.
URL:https://www.whiteroseaikido.com/events/white-rose-aikikai-christmas-course-2024/
LOCATION:White Rose Aikikai Hombu Dojo\, Concourse 2\, RCM Business Centres\, Sandbeds Trading Estate\, Dewsbury Road\, Ossett\, West Yorkshire\, WF5 9ND\, United Kingdom
ORGANIZER;CN="White Rose Aikikai":MAILTO:mark@whiteroseaikido.com
END:VEVENT
BEGIN:VEVENT
DTSTART;TZID=Europe/London:20241124T110000
DTEND;TZID=Europe/London:20241124T130000
DTSTAMP:20260423T235443
CREATED:20240326T150613Z
LAST-MODIFIED:20240326T150613Z
UID:8260-1732446000-1732453200@www.whiteroseaikido.com
SUMMARY:Weapons Class
DESCRIPTION:A two hour weapons class taught by Sensei Wilson.
URL:https://www.whiteroseaikido.com/events/weapons-class-14/
LOCATION:West Yorkshire
END:VEVENT
BEGIN:VEVENT
DTSTART;TZID=Europe/London:20241122T190000
DTEND;TZID=Europe/London:20241122T210000
DTSTAMP:20260423T235443
CREATED:20241012T072100Z
LAST-MODIFIED:20250208T200403Z
UID:8305-1732302000-1732309200@www.whiteroseaikido.com
SUMMARY:Riley Shihan teaching at Prince Bishops and Durham University Aikido
DESCRIPTION:Riley Shihan will be teaching at one of our satellite dojos\, Prince Bishops and Durham University Aikido. This will be Sensei’s first visit of the new University year. All are welcome and he will no doubt be accompanied and supported by senior grades.
URL:https://www.whiteroseaikido.com/events/riley-shihan-teaching-at-prince-bishops-and-durham-university-aikido-nov-2024/
LOCATION:Durham University Maiden Castle Dojo\, The Graham Sports Centre\, Durham\, DH1 3SE
ORGANIZER;CN="Prince Bishops Aikido":MAILTO:princebishopsaikido@gmail.com
END:VEVENT
BEGIN:VEVENT
DTSTART;TZID=Europe/London:20241102T103000
DTEND;TZID=Europe/London:20241102T160000
DTSTAMP:20260423T235443
CREATED:20240717T231954Z
LAST-MODIFIED:20240904T195054Z
UID:8285-1730543400-1730563200@www.whiteroseaikido.com
SUMMARY:British Aikido Board National Course
DESCRIPTION:
URL:https://www.whiteroseaikido.com/events/british-aikido-board-national-course/
LOCATION:Batley Sports Centre\, Windmill Lane\, Birstall\, Batley\, West Yorkshire\, WF17 0QD\, United Kingdom
ORGANIZER;CN="White Rose Aikikai":MAILTO:mark@whiteroseaikido.com
END:VEVENT
BEGIN:VEVENT
DTSTART;TZID=Europe/London:20241027T110000
DTEND;TZID=Europe/London:20241027T130000
DTSTAMP:20260423T235443
CREATED:20240326T150535Z
LAST-MODIFIED:20240904T194818Z
UID:8258-1730026800-1730034000@www.whiteroseaikido.com
SUMMARY:Weapons Class
DESCRIPTION:A two hour weapons class taught by Sensei Wilson.
URL:https://www.whiteroseaikido.com/events/weapons-class-13/
LOCATION:Brinnington Park Leisure Complex\, Northumberland Road\, Stockport\, SK5 8LS
ORGANIZER;CN="White Rose Aikikai":MAILTO:mark@whiteroseaikido.com
END:VEVENT
BEGIN:VEVENT
DTSTART;TZID=Europe/London:20241006T110000
DTEND;TZID=Europe/London:20241006T160000
DTSTAMP:20260423T235443
CREATED:20231227T230454Z
LAST-MODIFIED:20241004T114324Z
UID:8098-1728212400-1728230400@www.whiteroseaikido.com
SUMMARY:White Rose Aikikai Yudansha Course
DESCRIPTION:A day’s course open to 1st kyu and above\, taught by Riley Shihan.  \nAll welcome to attend\, from any organisation.\n£25 adults\n£10 juniors and students\nPlease bring proof of current insurance.
URL:https://www.whiteroseaikido.com/events/white-rose-aikikai-yudansha-course-6/
LOCATION:Huddersfield Leisure Centre\, Spring Grove St\, Huddersfield\, HD1 4BP
ORGANIZER;CN="White Rose Aikikai":MAILTO:mark@whiteroseaikido.com
END:VEVENT
BEGIN:VEVENT
DTSTART;TZID=Europe/London:20240929T110000
DTEND;TZID=Europe/London:20240929T130000
DTSTAMP:20260423T235443
CREATED:20240326T150353Z
LAST-MODIFIED:20240904T194745Z
UID:8255-1727607600-1727614800@www.whiteroseaikido.com
SUMMARY:Weapons Class
DESCRIPTION:A two hour weapons class taught by Sensei Wilson.
URL:https://www.whiteroseaikido.com/events/weapons-class-12/
LOCATION:Brinnington Park Leisure Complex\, Northumberland Road\, Stockport\, SK5 8LS
ORGANIZER;CN="White Rose Aikikai":MAILTO:mark@whiteroseaikido.com
END:VEVENT
BEGIN:VEVENT
DTSTART;TZID=Europe/London:20240914T110000
DTEND;TZID=Europe/London:20240914T163000
DTSTAMP:20260423T235443
CREATED:20240630T053709Z
LAST-MODIFIED:20240630T053709Z
UID:8281-1726311600-1726331400@www.whiteroseaikido.com
SUMMARY:Joint Aikido Seminar featuring Philip Smith Shihan & Shane Riley Shihan
DESCRIPTION:Riley Shihan has been invited to teach a joint seminar along with Philip Smith Shihan in Cleethorpes\, by Cleethorpes Aikido Club. All welcome to attend.
URL:https://www.whiteroseaikido.com/events/joint-aikido-seminar-featuring-philip-smith-shihan-shane-riley-shihan/
LOCATION:Burn Fitness\, Unit 1\, Meridian Point\, Kings Road\, Cleethorpes\, DN35 0FB
END:VEVENT
BEGIN:VEVENT
DTSTART;TZID=Europe/London:20240818T110000
DTEND;TZID=Europe/London:20240818T130000
DTSTAMP:20260423T235443
CREATED:20240326T150306Z
LAST-MODIFIED:20240326T150306Z
UID:8253-1723978800-1723986000@www.whiteroseaikido.com
SUMMARY:Weapons Class
DESCRIPTION:A two hour weapons class taught by Sensei Wilson.
URL:https://www.whiteroseaikido.com/events/weapons-class-11/
LOCATION:White Rose Aikikai Old Hombu Dojo\, 1A North Rd\, Dewsbury\, WF13 3AB
ORGANIZER;CN="White Rose Aikikai":MAILTO:mark@whiteroseaikido.com
END:VEVENT
BEGIN:VEVENT
DTSTART;TZID=Europe/London:20240728T100000
DTEND;TZID=Europe/London:20240728T160000
DTSTAMP:20260423T235443
CREATED:20240502T115005Z
LAST-MODIFIED:20240502T115500Z
UID:8270-1722160800-1722182400@www.whiteroseaikido.com
SUMMARY:Sensei Danford Teaching at Aikido Friendship Seminar 2024
DESCRIPTION:
URL:https://www.whiteroseaikido.com/events/sensei-danford-teaching-at-aikido-friendship-seminar-2024/
LOCATION:Khalsa Academy\, Millsfields Road\, Bilston\, WV4 6JP\, United Kingdom
END:VEVENT
BEGIN:VEVENT
DTSTART;TZID=Europe/London:20240721T110000
DTEND;TZID=Europe/London:20240721T130000
DTSTAMP:20260423T235443
CREATED:20240326T150111Z
LAST-MODIFIED:20240326T150111Z
UID:8251-1721559600-1721566800@www.whiteroseaikido.com
SUMMARY:Weapons Class
DESCRIPTION:A two hour weapons class taught by Sensei Wilson.
URL:https://www.whiteroseaikido.com/events/weapons-class-10/
LOCATION:West Yorkshire
END:VEVENT
BEGIN:VEVENT
DTSTART;TZID=Europe/London:20240714T103000
DTEND;TZID=Europe/London:20240714T160000
DTSTAMP:20260423T235443
CREATED:20231227T230454Z
LAST-MODIFIED:20260131T184138Z
UID:8097-1720953000-1720972800@www.whiteroseaikido.com
SUMMARY:White Rose Aikikai Summer Course
DESCRIPTION:A day course taught by senior White Rose Aikikai instructors.\nAll welcome to attend\, from any organisation.\n£25 adults\n£10 juniors and students\nPlease bring proof of current insurance.
URL:https://www.whiteroseaikido.com/events/white-rose-aikikai-summer-course-2025/
LOCATION:White Rose Aikikai Old Hombu Dojo\, 1A North Rd\, Dewsbury\, WF13 3AB
ORGANIZER;CN="White Rose Aikikai":MAILTO:mark@whiteroseaikido.com
END:VEVENT
BEGIN:VEVENT
DTSTART;TZID=Europe/London:20240623T080000
DTEND;TZID=Europe/London:20240623T170000
DTSTAMP:20260423T235443
CREATED:20240326T150015Z
LAST-MODIFIED:20240326T150015Z
UID:8249-1719129600-1719162000@www.whiteroseaikido.com
SUMMARY:Weapons Class
DESCRIPTION:A two hour weapons class taught by Sensei Wilson.
URL:https://www.whiteroseaikido.com/events/weapons-class-9/
LOCATION:White Rose Aikikai Old Hombu Dojo\, 1A North Rd\, Dewsbury\, WF13 3AB
ORGANIZER;CN="White Rose Aikikai":MAILTO:mark@whiteroseaikido.com
END:VEVENT
BEGIN:VEVENT
DTSTART;VALUE=DATE:20240615
DTEND;VALUE=DATE:20240616
DTSTAMP:20260423T235443
CREATED:20240113T172327Z
LAST-MODIFIED:20240326T150756Z
UID:8232-1718409600-1718495999@www.whiteroseaikido.com
SUMMARY:Heseltine Shihan Teaching at British Aikido Board National Weapons Course
DESCRIPTION:Heseltine Shihan has been invited to teach at the British Aikido Board National Weapons Course at Brunel University\, London. \nFurther details to follow once we have them.
URL:https://www.whiteroseaikido.com/events/heseltine-shihan-at-bab-2024/
LOCATION:Brunel University\, Kingston Ln\, London\, UB8 3PH
ORGANIZER;CN="British Aikido Board":MAILTO:admin@bab.org.uk
END:VEVENT
BEGIN:VEVENT
DTSTART;TZID=Europe/London:20240518T110000
DTEND;TZID=Europe/London:20240519T130000
DTSTAMP:20260423T235443
CREATED:20231227T230454Z
LAST-MODIFIED:20240102T144259Z
UID:8096-1716030000-1716123600@www.whiteroseaikido.com
SUMMARY:Lowestoft Course
DESCRIPTION:Riley Shihan will be teaching a day and a half seminar at Broadland Aikido Club.
URL:https://www.whiteroseaikido.com/events/lowestoft-course-7/
LOCATION:The East Anglian Martial Arts Centre\, 163 Bridge Road\, Lowestoft\, NR33 9JU
ORGANIZER;CN="Broadland Aikido Club":MAILTO:broadlandaikido@gmail.com
END:VEVENT
BEGIN:VEVENT
DTSTART;TZID=Europe/London:20240512T110000
DTEND;TZID=Europe/London:20240512T130000
DTSTAMP:20260423T235443
CREATED:20240326T145855Z
LAST-MODIFIED:20240326T145855Z
UID:8247-1715511600-1715518800@www.whiteroseaikido.com
SUMMARY:Weapons Class
DESCRIPTION:A two hour weapons class taught by Sensei Wilson.
URL:https://www.whiteroseaikido.com/events/weapons-class-8/
LOCATION:White Rose Aikikai Old Hombu Dojo\, 1A North Rd\, Dewsbury\, WF13 3AB
ORGANIZER;CN="White Rose Aikikai":MAILTO:mark@whiteroseaikido.com
END:VEVENT
END:VCALENDAR