BEGIN:VCALENDAR
VERSION:2.0
PRODID:-//White Rose Aikikai - ECPv6.15.15//NONSGML v1.0//EN
CALSCALE:GREGORIAN
METHOD:PUBLISH
X-WR-CALNAME:White Rose Aikikai
X-ORIGINAL-URL:https://www.whiteroseaikido.com
X-WR-CALDESC:Events for White Rose Aikikai
REFRESH-INTERVAL;VALUE=DURATION:PT1H
X-Robots-Tag:noindex
X-PUBLISHED-TTL:PT1H
BEGIN:VTIMEZONE
TZID:Europe/London
BEGIN:DAYLIGHT
TZOFFSETFROM:+0000
TZOFFSETTO:+0100
TZNAME:BST
DTSTART:20250330T010000
END:DAYLIGHT
BEGIN:STANDARD
TZOFFSETFROM:+0100
TZOFFSETTO:+0000
TZNAME:GMT
DTSTART:20251026T010000
END:STANDARD
BEGIN:DAYLIGHT
TZOFFSETFROM:+0000
TZOFFSETTO:+0100
TZNAME:BST
DTSTART:20260329T010000
END:DAYLIGHT
BEGIN:STANDARD
TZOFFSETFROM:+0100
TZOFFSETTO:+0000
TZNAME:GMT
DTSTART:20261025T010000
END:STANDARD
BEGIN:DAYLIGHT
TZOFFSETFROM:+0000
TZOFFSETTO:+0100
TZNAME:BST
DTSTART:20270328T010000
END:DAYLIGHT
BEGIN:STANDARD
TZOFFSETFROM:+0100
TZOFFSETTO:+0000
TZNAME:GMT
DTSTART:20271031T010000
END:STANDARD
END:VTIMEZONE
BEGIN:VEVENT
DTSTART;TZID=Europe/London:20260711T103000
DTEND;TZID=Europe/London:20260711T160000
DTSTAMP:20260424T012313
CREATED:20260131T184227Z
LAST-MODIFIED:20260131T184240Z
UID:8413-1783765800-1783785600@www.whiteroseaikido.com
SUMMARY:White Rose Aikikai Summer Course
DESCRIPTION:A day course taught by senior White Rose Aikikai instructors.\nAll welcome to attend\, from any organisation.\n£25 adults\n£10 juniors and students\nPlease bring proof of current insurance.
URL:https://www.whiteroseaikido.com/events/white-rose-aikikai-summer-course-2026/
LOCATION:White Rose Aikikai Hombu Dojo\, Concourse 2\, RCM Business Centres\, Sandbeds Trading Estate\, Dewsbury Road\, Ossett\, West Yorkshire\, WF5 9ND\, United Kingdom
ORGANIZER;CN="White Rose Aikikai":MAILTO:mark@whiteroseaikido.com
END:VEVENT
BEGIN:VEVENT
DTSTART;TZID=Europe/London:20260905T103000
DTEND;TZID=Europe/London:20260906T133000
DTSTAMP:20260424T012313
CREATED:20251222T140046Z
LAST-MODIFIED:20251222T140058Z
UID:8402-1788604200-1788701400@www.whiteroseaikido.com
SUMMARY:White Rose Aikikai Summer Camp
DESCRIPTION:Riley Shihan will teaching at our Orcop dojo\, Herefordshire. \nWe will be camping over the weekend\, including a BBQ on the Saturday evening. We will need numbers for the BBQ in advance.  \nContact Sensei Faye Clarke for further details.\nPhone: 07749 963 204
URL:https://www.whiteroseaikido.com/events/white-rose-aikikai-summer-camp-2026/
LOCATION:Orcop Village Hall\, Orcop\, Hereford\, HR2 8ET
END:VEVENT
BEGIN:VEVENT
DTSTART;TZID=Europe/London:20260919T103000
DTEND;TZID=Europe/London:20260919T160000
DTSTAMP:20260424T012313
CREATED:20260131T184444Z
LAST-MODIFIED:20260131T184444Z
UID:8415-1789813800-1789833600@www.whiteroseaikido.com
SUMMARY:White Rose Aikikai Autumn Course
DESCRIPTION:A day course taught by senior White Rose Aikikai instructors.\nAll welcome to attend\, from any organisation.\n£25 adults\n£10 juniors and students\nPlease bring proof of current insurance.
URL:https://www.whiteroseaikido.com/events/white-rose-aikikai-autumn-course-2026/
LOCATION:White Rose Aikikai Hombu Dojo\, Concourse 2\, RCM Business Centres\, Sandbeds Trading Estate\, Dewsbury Road\, Ossett\, West Yorkshire\, WF5 9ND\, United Kingdom
ORGANIZER;CN="White Rose Aikikai":MAILTO:mark@whiteroseaikido.com
END:VEVENT
BEGIN:VEVENT
DTSTART;VALUE=DATE:20261001
DTEND;VALUE=DATE:20261006
DTSTAMP:20260424T012313
CREATED:20251222T141024Z
LAST-MODIFIED:20251222T141024Z
UID:8405-1790812800-1791244799@www.whiteroseaikido.com
SUMMARY:White Rose Aikikai Athens Visit
DESCRIPTION:Riley Shihan will be leading a group on another visit to Athens. He will be teaching at Athens Bushido Center.
URL:https://www.whiteroseaikido.com/events/white-rose-aikikai-athens-visit-2026/
LOCATION:Athens Bushido Center\, Athens\, Greece
ORGANIZER;CN="Athens Bushido center":MAILTO:info@aikidobushidocenter.gr
END:VEVENT
BEGIN:VEVENT
DTSTART;TZID=Europe/London:20261107T103000
DTEND;TZID=Europe/London:20261107T160000
DTSTAMP:20260424T012313
CREATED:20260131T184641Z
LAST-MODIFIED:20260131T184641Z
UID:8417-1794047400-1794067200@www.whiteroseaikido.com
SUMMARY:British Aikido Board National Seminar North
DESCRIPTION:The British Aikido Board will hosting its Northern National Seminar in West Yorkshire once again. We’re pleased to say this year it will be held at our hombu dojo.
URL:https://www.whiteroseaikido.com/events/british-aikido-board-national-seminar-north-2026/
LOCATION:White Rose Aikikai Hombu Dojo\, Concourse 2\, RCM Business Centres\, Sandbeds Trading Estate\, Dewsbury Road\, Ossett\, West Yorkshire\, WF5 9ND\, United Kingdom
ORGANIZER;CN="White Rose Aikikai":MAILTO:mark@whiteroseaikido.com
END:VEVENT
BEGIN:VEVENT
DTSTART;TZID=Europe/London:20261212T103000
DTEND;TZID=Europe/London:20261212T160000
DTSTAMP:20260424T012313
CREATED:20251222T135503Z
LAST-MODIFIED:20251222T141131Z
UID:8398-1797071400-1797091200@www.whiteroseaikido.com
SUMMARY:White Rose Aikikai Christmas Course
DESCRIPTION:A day course taught by founder and Principal Shane Riley Shihan. \nAll welcome to attend\, from any organisation.\nPlease bring proof of current insurance. \nEvening get-together afterwards. Please let us know if you would like to attend that as we’ll need numbers in advance.
URL:https://www.whiteroseaikido.com/events/white-rose-aikikai-christmas-course-2026/
LOCATION:White Rose Aikikai Hombu Dojo\, Concourse 2\, RCM Business Centres\, Sandbeds Trading Estate\, Dewsbury Road\, Ossett\, West Yorkshire\, WF5 9ND\, United Kingdom
ORGANIZER;CN="White Rose Aikikai":MAILTO:mark@whiteroseaikido.com
END:VEVENT
END:VCALENDAR