BEGIN:VCALENDAR
VERSION:2.0
PRODID:-//White Rose Aikikai - ECPv6.15.15//NONSGML v1.0//EN
CALSCALE:GREGORIAN
METHOD:PUBLISH
X-ORIGINAL-URL:https://www.whiteroseaikido.com
X-WR-CALDESC:Events for White Rose Aikikai
REFRESH-INTERVAL;VALUE=DURATION:PT1H
X-Robots-Tag:noindex
X-PUBLISHED-TTL:PT1H
BEGIN:VTIMEZONE
TZID:Europe/London
BEGIN:DAYLIGHT
TZOFFSETFROM:+0000
TZOFFSETTO:+0100
TZNAME:BST
DTSTART:20130331T010000
END:DAYLIGHT
BEGIN:STANDARD
TZOFFSETFROM:+0100
TZOFFSETTO:+0000
TZNAME:GMT
DTSTART:20131027T010000
END:STANDARD
BEGIN:DAYLIGHT
TZOFFSETFROM:+0000
TZOFFSETTO:+0100
TZNAME:BST
DTSTART:20140330T010000
END:DAYLIGHT
BEGIN:STANDARD
TZOFFSETFROM:+0100
TZOFFSETTO:+0000
TZNAME:GMT
DTSTART:20141026T010000
END:STANDARD
BEGIN:DAYLIGHT
TZOFFSETFROM:+0000
TZOFFSETTO:+0100
TZNAME:BST
DTSTART:20150329T010000
END:DAYLIGHT
BEGIN:STANDARD
TZOFFSETFROM:+0100
TZOFFSETTO:+0000
TZNAME:GMT
DTSTART:20151025T010000
END:STANDARD
BEGIN:DAYLIGHT
TZOFFSETFROM:+0000
TZOFFSETTO:+0100
TZNAME:BST
DTSTART:20160327T010000
END:DAYLIGHT
BEGIN:STANDARD
TZOFFSETFROM:+0100
TZOFFSETTO:+0000
TZNAME:GMT
DTSTART:20161030T010000
END:STANDARD
BEGIN:DAYLIGHT
TZOFFSETFROM:+0000
TZOFFSETTO:+0100
TZNAME:BST
DTSTART:20170326T010000
END:DAYLIGHT
BEGIN:STANDARD
TZOFFSETFROM:+0100
TZOFFSETTO:+0000
TZNAME:GMT
DTSTART:20171029T010000
END:STANDARD
BEGIN:DAYLIGHT
TZOFFSETFROM:+0000
TZOFFSETTO:+0100
TZNAME:BST
DTSTART:20180325T010000
END:DAYLIGHT
BEGIN:STANDARD
TZOFFSETFROM:+0100
TZOFFSETTO:+0000
TZNAME:GMT
DTSTART:20181028T010000
END:STANDARD
END:VTIMEZONE
BEGIN:VEVENT
DTSTART;TZID=Europe/London:20171125T193000
DTEND;TZID=Europe/London:20171125T230000
DTSTAMP:20260423T214315
CREATED:20231227T230024Z
LAST-MODIFIED:20240102T141213Z
UID:8057-1511638200-1511650800@www.whiteroseaikido.com
SUMMARY:White Rose Aikikai Winter Course - Evening Meal
DESCRIPTION:Here is the menu and cost for the evening meal at Zucchinis.\nPlease EMAIL your selection to Sensei Danford –Mark@whiteroseaikido.com – and include the full name of any guests.  \nThe bank details are on there for those who wish to pay directly into the account; please let us know with your selection that you have made the payment.  \nAll orders and monies need to be in by 5th November. For none White Rose students who wish to pay by cash or cheque\, please state on your menu request and Sensei Danford will liaise directly with you.
URL:https://www.whiteroseaikido.com/events/white-rose-aikikai-winter-course-evening-meal/
LOCATION:West Yorkshire
ORGANIZER;CN="White Rose Aikikai":MAILTO:mark@whiteroseaikido.com
END:VEVENT
BEGIN:VEVENT
DTSTART;TZID=Europe/London:20171125T103000
DTEND;TZID=Europe/London:20171126T153000
DTSTAMP:20260423T214315
CREATED:20231227T230024Z
LAST-MODIFIED:20240102T141213Z
UID:8058-1511605800-1511710200@www.whiteroseaikido.com
SUMMARY:White Rose Aikikai Winter Course
DESCRIPTION:A two day course taught by Founder and Principal Shane Riley Shihan\, 7th Dan\, and Senior White Rose Aikikai Instructors\nSaturday 25th November: 10.30 – 15.30\nSunday 26th November: 10.30 – 15.00 \nFull Weekend ………………. £40.00\nFull Weekend Pre-paid….. £35.00\nSingle Day……………………. £25.00 \nSee here for further details or here for a schedule of the weekend.
URL:https://www.whiteroseaikido.com/events/white-rose-aikikai-winter-course/
LOCATION:Dewsbury Sports Centre\, Longcauseway\, Dewsbury\, WF12 8EN
ORGANIZER;CN="White Rose Aikikai":MAILTO:mark@whiteroseaikido.com
END:VEVENT
BEGIN:VEVENT
DTSTART;TZID=Europe/London:20171028T130000
DTEND;TZID=Europe/London:20171028T130000
DTSTAMP:20260423T214315
CREATED:20231227T230024Z
LAST-MODIFIED:20240102T141213Z
UID:8056-1509195600-1509195600@www.whiteroseaikido.com
SUMMARY:Orcop Seminar
DESCRIPTION:Riley Shihan will be making his first visit to the Orcop dojo in Orcop\, Herefordshire.\nSee here or contact Sensei Faye Clarke for further details.\nPhone: 07749 963 204\nVisit: orcopaikido@groups.facebook.com\nwww.facebook.com/groups/OrcopAikido
URL:https://www.whiteroseaikido.com/events/orcop-seminar/
LOCATION:Orcop Village Hall\, Orcop\, Hereford\, HR2 8ET
END:VEVENT
BEGIN:VEVENT
DTSTART;TZID=Europe/London:20171015T110000
DTEND;TZID=Europe/London:20171015T170000
DTSTAMP:20260423T214315
CREATED:20231227T230024Z
LAST-MODIFIED:20240102T141213Z
UID:8055-1508065200-1508086800@www.whiteroseaikido.com
SUMMARY:Yudansha Gradings
DESCRIPTION:
URL:https://www.whiteroseaikido.com/events/yudansha-gradings/
LOCATION:Huddersfield Leisure Centre\, Spring Grove St\, Huddersfield\, HD1 4BP
ORGANIZER;CN="White Rose Aikikai":MAILTO:mark@whiteroseaikido.com
END:VEVENT
BEGIN:VEVENT
DTSTART;TZID=Europe/London:20171001T110000
DTEND;TZID=Europe/London:20171001T160000
DTSTAMP:20260423T214315
CREATED:20231227T230024Z
LAST-MODIFIED:20240102T141213Z
UID:8054-1506855600-1506873600@www.whiteroseaikido.com
SUMMARY:Yudansha Course
DESCRIPTION:Shane Riley Shihan will be holding a technical course for students 1st kyu and above.
URL:https://www.whiteroseaikido.com/events/yudansha-course-2/
LOCATION:Huddersfield Leisure Centre\, Spring Grove St\, Huddersfield\, HD1 4BP
ORGANIZER;CN="White Rose Aikikai":MAILTO:mark@whiteroseaikido.com
END:VEVENT
BEGIN:VEVENT
DTSTART;TZID=Europe/London:20170909T000000
DTEND;TZID=Europe/London:20170910T000000
DTSTAMP:20260423T214315
CREATED:20231227T230009Z
LAST-MODIFIED:20240102T141158Z
UID:8053-1504915200-1505001600@www.whiteroseaikido.com
SUMMARY:Lowestoft Seminar
DESCRIPTION:Shane Riley Shihan is conducting a seminar at Broadlands Aikido\nNirvana Fitness Ltd\, Pinbush Road\, South Lowestoft Industrial Estate \nLowestoft\, NR33 7NL \nContact Sensei Burlingham for further information: \nEmail frank.burlingham@virgin.net \nwww.broadland-aikido.co.uk
URL:https://www.whiteroseaikido.com/events/lowestoft-seminar/
LOCATION:Nirvana Fitness\, 60 Pinbush Road\, Lowestoft\, NR33 7NL
ORGANIZER;CN="Broadland Aikido Club":MAILTO:broadlandaikido@gmail.com
END:VEVENT
BEGIN:VEVENT
DTSTART;TZID=Europe/London:20170812T110000
DTEND;TZID=Europe/London:20170812T160000
DTSTAMP:20260423T214315
CREATED:20231227T230009Z
LAST-MODIFIED:20240102T141158Z
UID:8052-1502535600-1502553600@www.whiteroseaikido.com
SUMMARY:White Rose Seminar
DESCRIPTION:Day Course at Durham\, venue West Gym\, Hild and Bede College\, Durham. 11:00am – 4:00pm£20.00 for BAB members with proof of current insurance.
URL:https://www.whiteroseaikido.com/events/white-rose-seminar-2/
LOCATION:Durham University – Hild Bede West Gym\, College of St. Hild and St. Bede\, Durham\, DH1 1SZ
ORGANIZER;CN="Prince Bishops Aikido":MAILTO:princebishopsaikido@gmail.com
END:VEVENT
BEGIN:VEVENT
DTSTART;TZID=Europe/London:20170715T000000
DTEND;TZID=Europe/London:20170716T000000
DTSTAMP:20260423T214315
CREATED:20231227T230009Z
LAST-MODIFIED:20240102T141158Z
UID:8051-1500076800-1500163200@www.whiteroseaikido.com
SUMMARY:8th International Friendship Seminar
DESCRIPTION:The Internation Friendship Seminar returns to England this year.\nInstructors for the event will be: \nSenseis: Osamu Obata Shihan(Canada)\, Philip Lee Shihan (Singapore)\, Aziz Belhassane Shihan (Belgium)\, Frank Burlingham sensei (UK) \nClick here for further details.
URL:https://www.whiteroseaikido.com/events/8th-international-friendship-seminar/
LOCATION:Ormiston Denes Academy\, Yarmouth Rd\, Lowestoft\, NR32 4AH
ORGANIZER;CN="Broadland Aikido Club":MAILTO:broadlandaikido@gmail.com
END:VEVENT
BEGIN:VEVENT
DTSTART;TZID=Europe/London:20170520T110000
DTEND;TZID=Europe/London:20170520T110000
DTSTAMP:20260423T214315
CREATED:20231227T230009Z
LAST-MODIFIED:20240102T141158Z
UID:8050-1495278000-1495278000@www.whiteroseaikido.com
SUMMARY:Seminar
DESCRIPTION:Sensei Riley is conducting a seminar at:\nSamurai Hearts Martial Arts Fitness Centre \n203-207 Freeman St\, Grimsby DN32 9DW \n 
URL:https://www.whiteroseaikido.com/events/seminar-8/
LOCATION:Samurai Hearts Martial Arts and Fitness Centre\, 203-207 Freeman St\, Grimsby\, DN32 9DW
END:VEVENT
BEGIN:VEVENT
DTSTART;TZID=Europe/London:20170428T000000
DTEND;TZID=Europe/London:20170501T000000
DTSTAMP:20260423T214315
CREATED:20231227T230009Z
LAST-MODIFIED:20240102T141158Z
UID:8049-1493337600-1493596800@www.whiteroseaikido.com
SUMMARY:Athens Seminar
DESCRIPTION:Shane Riley Shihan is instructing at the Hellenic Aikido Association in Athens.For more information visit http://www.hellenicaikido.gr/en/contact.html
URL:https://www.whiteroseaikido.com/events/athens-seminar/
LOCATION:Hellenic Aikido Association\, Athens\, Greece
END:VEVENT
BEGIN:VEVENT
DTSTART;TZID=Europe/London:20170318T123000
DTEND;TZID=Europe/London:20170318T173000
DTSTAMP:20260423T214315
CREATED:20231227T225931Z
LAST-MODIFIED:20240102T141143Z
UID:8048-1489840200-1489858200@www.whiteroseaikido.com
SUMMARY:White Rose Seminar
DESCRIPTION:Day Course at Dewsbury Sports Centre 12:30pm – 5:30pm£20.00 for BAB members with proof of current insurance.
URL:https://www.whiteroseaikido.com/events/white-rose-seminar/
LOCATION:Dewsbury Sports Centre\, Longcauseway\, Dewsbury\, WF12 8EN
ORGANIZER;CN="White Rose Aikikai":MAILTO:mark@whiteroseaikido.com
END:VEVENT
BEGIN:VEVENT
DTSTART;TZID=Europe/London:20170219T110000
DTEND;TZID=Europe/London:20170219T153000
DTSTAMP:20260423T214315
CREATED:20231227T225931Z
LAST-MODIFIED:20240102T141143Z
UID:8047-1487502000-1487518200@www.whiteroseaikido.com
SUMMARY:Yudansha Course
DESCRIPTION:Shane Riley Shihan will be holding a techinical course for students 1st kyu and above.
URL:https://www.whiteroseaikido.com/events/yudansha-course/
LOCATION:Huddersfield Leisure Centre\, Spring Grove St\, Huddersfield\, HD1 4BP
ORGANIZER;CN="White Rose Aikikai":MAILTO:mark@whiteroseaikido.com
END:VEVENT
BEGIN:VEVENT
DTSTART;TZID=Europe/London:20161217T120000
DTEND;TZID=Europe/London:20161217T190000
DTSTAMP:20260423T214315
CREATED:20231227T225931Z
LAST-MODIFIED:20240102T141143Z
UID:8046-1481976000-1482001200@www.whiteroseaikido.com
SUMMARY:Seminar
DESCRIPTION:Day Course at Dewsbury Sports Centre 12:00pm – 5:00pm£20.00 for BAB members with proof of current insurance\, and £25.00 for all others. \n[For more details click here]
URL:https://www.whiteroseaikido.com/events/seminar-7/
LOCATION:Dewsbury Sports Centre\, Longcauseway\, Dewsbury\, WF12 8EN
ORGANIZER;CN="White Rose Aikikai":MAILTO:mark@whiteroseaikido.com
END:VEVENT
BEGIN:VEVENT
DTSTART;TZID=Europe/London:20161113T130000
DTEND;TZID=Europe/London:20161113T130000
DTSTAMP:20260423T214315
CREATED:20231227T225931Z
LAST-MODIFIED:20240102T141143Z
UID:8045-1479042000-1479042000@www.whiteroseaikido.com
SUMMARY:Weapons Course
DESCRIPTION:Sensei Derrick will be holding a weapons seminar at Huddersfield Sports Centre\,\n[For more details click here]
URL:https://www.whiteroseaikido.com/events/weapons-course/
LOCATION:Huddersfield Leisure Centre\, Spring Grove St\, Huddersfield\, HD1 4BP
ORGANIZER;CN="White Rose Aikikai":MAILTO:mark@whiteroseaikido.com
END:VEVENT
BEGIN:VEVENT
DTSTART;TZID=Europe/London:20161002T120000
DTEND;TZID=Europe/London:20161002T160000
DTSTAMP:20260423T214315
CREATED:20231227T225931Z
LAST-MODIFIED:20240102T141143Z
UID:8044-1475409600-1475424000@www.whiteroseaikido.com
SUMMARY:Shihan Terence Bayliss - Seminar
DESCRIPTION:Shihan Terence Bayliss is visiting the Huddersfield Sports Centre for a short seminar\, with all proceeds being donated to a fund in the memory of Jo Cox MP.[For more details click here]
URL:https://www.whiteroseaikido.com/events/shihan-terence-bayliss-seminar/
LOCATION:Huddersfield Leisure Centre\, Spring Grove St\, Huddersfield\, HD1 4BP
ORGANIZER;CN="White Rose Aikikai":MAILTO:mark@whiteroseaikido.com
END:VEVENT
BEGIN:VEVENT
DTSTART;TZID=Europe/London:20160911T110000
DTEND;TZID=Europe/London:20160911T153000
DTSTAMP:20260423T214315
CREATED:20231227T225814Z
LAST-MODIFIED:20240102T141128Z
UID:8043-1473591600-1473607800@www.whiteroseaikido.com
SUMMARY:Aikido seminar
DESCRIPTION:Riley Shihan is doing a joint seminar with Sensei Nick Waites at the Koteikan dojo.\nAddress: \n\n\n\n24 Windsor Terrace\, Leeholme\n\n\nBishop Auckland\n\n\nCo. Durham\n\n\nDL14 8HZ
URL:https://www.whiteroseaikido.com/events/aikido-seminar/
LOCATION:Koteikan Dojo\, 24 Windsor Terrace\, Bishop Auckland\, DL14 8HZ
ORGANIZER;CN="Koteikan Aikido":MAILTO:nick@nickwaites.co.uk
END:VEVENT
BEGIN:VEVENT
DTSTART;TZID=Europe/London:20160826T000000
DTEND;TZID=Europe/London:20160828T000000
DTSTAMP:20260423T214315
CREATED:20231227T225814Z
LAST-MODIFIED:20251014T214945Z
UID:8042-1472169600-1472342400@www.whiteroseaikido.com
SUMMARY:Northern Ireland Seminars
DESCRIPTION:Senseis Riley and Heseltine are teaching in Northern Ireland at Ki-Shin-Tai Aikido.\nFor further details contact Sensei Gavin Campbell of Ki-Shin-Tai Aikido\nMobile: 07745806330\nEmail: Gavin.Campbell@nwrc.ac.uk
URL:https://www.whiteroseaikido.com/events/northern-ireland-seminars/
LOCATION:Ki-Shin-Tai Aikido\, Sion Mills\, Northern Ireland
ORGANIZER;CN="Ki-Shin-Tai Aikido":MAILTO:Gavin.Campbell@nwrc.ac.uk
END:VEVENT
BEGIN:VEVENT
DTSTART;TZID=Europe/London:20160806T110000
DTEND;TZID=Europe/London:20160806T163000
DTSTAMP:20260423T214315
CREATED:20231227T225814Z
LAST-MODIFIED:20240102T141128Z
UID:8041-1470481200-1470501000@www.whiteroseaikido.com
SUMMARY:Seminar
DESCRIPTION:Day Course at Durham\, venue West Gym\, Hild and Bede College\, Durham. 11:00am – 4:00pm£20.00 for BAB members with proof of current insurance\, and £25.00 for all others. \n[For more details click here]
URL:https://www.whiteroseaikido.com/events/seminar-6/
LOCATION:Durham University – Hild Bede West Gym\, College of St. Hild and St. Bede\, Durham\, DH1 1SZ
ORGANIZER;CN="Prince Bishops Aikido":MAILTO:princebishopsaikido@gmail.com
END:VEVENT
BEGIN:VEVENT
DTSTART;TZID=Europe/London:20160625T100000
DTEND;TZID=Europe/London:20160626T170000
DTSTAMP:20260423T214315
CREATED:20231227T225814Z
LAST-MODIFIED:20240102T141128Z
UID:8040-1466848800-1466960400@www.whiteroseaikido.com
SUMMARY:7th International Friendship Seminar (IFS) - Brussels
DESCRIPTION:Sensei's\, Katsuyuki Shimamoto shihan\, Osamu Obata shihan\, Shane Riley shihan\, Aziz Belhassane shihan\, Philip Lee shihan\, Frank Burlingham sensei \n[For more details click here]
URL:https://www.whiteroseaikido.com/events/7th-international-friendship-seminar-ifs-brussels/
LOCATION:West Yorkshire
ORGANIZER;CN="Kiryoku Aiki Dojo":MAILTO:info@kiryoku.be
END:VEVENT
BEGIN:VEVENT
DTSTART;TZID=Europe/London:20160522T130000
DTEND;TZID=Europe/London:20160522T170000
DTSTAMP:20260423T214315
CREATED:20231227T225814Z
LAST-MODIFIED:20240102T141128Z
UID:8039-1463922000-1463936400@www.whiteroseaikido.com
SUMMARY:Extended Weapons Class
DESCRIPTION:Sensei Derrick is holding an extended weapons class on Sunday 22nd March at Huddersfield Leisure Centre 1pm until 4pm.\nAll students are welcome but should be aware that this class is not aimed at complete beginners.
URL:https://www.whiteroseaikido.com/events/extended-weapons-class/
LOCATION:Huddersfield Leisure Centre\, Spring Grove St\, Huddersfield\, HD1 4BP
ORGANIZER;CN="White Rose Aikikai":MAILTO:mark@whiteroseaikido.com
END:VEVENT
BEGIN:VEVENT
DTSTART;TZID=Europe/London:20160508T120000
DTEND;TZID=Europe/London:20160508T170000
DTSTAMP:20260423T214315
CREATED:20231227T225758Z
LAST-MODIFIED:20240102T141113Z
UID:8033-1462708800-1462726800@www.whiteroseaikido.com
SUMMARY:Multi Style Martial Arts Seminar - Help For Heroes
DESCRIPTION:Sensei Danford is one of the instructors at the Multi Style Martial Arts Seminar\, being held in aid of Help For Heroes.\nOther styles include Karate\, Praying Mantis kung fu\, Tai Jutsu\, and Kobudo. \n[For more details click here] \nBookings can be made with Sensei Danford.
URL:https://www.whiteroseaikido.com/events/multi-style-martial-arts-seminar-help-for-heroes/
LOCATION:Armley Sports Centre\, Carr Crofts\, Leeds\, LS12 3HB
END:VEVENT
BEGIN:VEVENT
DTSTART;TZID=Europe/London:20160415T000000
DTEND;TZID=Europe/London:20160417T000000
DTSTAMP:20260423T214315
CREATED:20231227T225758Z
LAST-MODIFIED:20240102T141113Z
UID:8032-1460678400-1460851200@www.whiteroseaikido.com
SUMMARY:Lowestoft Course
DESCRIPTION:Sensei Riley is teaching at a course for Broadlands Aikido.\n[For more details click here]
URL:https://www.whiteroseaikido.com/events/lowestoft-course-3/
LOCATION:Nirvana Fitness\, 60 Pinbush Road\, Lowestoft\, NR33 7NL
ORGANIZER;CN="Broadland Aikido Club":MAILTO:broadlandaikido@gmail.com
END:VEVENT
BEGIN:VEVENT
DTSTART;TZID=Europe/London:20160319T120000
DTEND;TZID=Europe/London:20160319T170000
DTSTAMP:20260423T214315
CREATED:20231227T225757Z
LAST-MODIFIED:20240102T141113Z
UID:8031-1458388800-1458406800@www.whiteroseaikido.com
SUMMARY:Seminar
DESCRIPTION:Day Course at Dewsbury Sports Centre 12:00pm – 5:00pm£20.00 for BAB members with proof of current insurance\, and £25.00 for all others. \n[For more details click here]
URL:https://www.whiteroseaikido.com/events/seminar-5/
LOCATION:Dewsbury Sports Centre\, Longcauseway\, Dewsbury\, WF12 8EN
ORGANIZER;CN="White Rose Aikikai":MAILTO:mark@whiteroseaikido.com
END:VEVENT
BEGIN:VEVENT
DTSTART;TZID=Europe/London:20151205T120000
DTEND;TZID=Europe/London:20151205T170000
DTSTAMP:20260423T214315
CREATED:20231227T225757Z
LAST-MODIFIED:20240102T141113Z
UID:8030-1449316800-1449334800@www.whiteroseaikido.com
SUMMARY:Seminar
DESCRIPTION:Day Course at Dewsbury Sports Centre 12:00pm – 5:00pm£20.00 for BAB members with proof of current insurance\, and £25.00 for all others. \nFor more details click here
URL:https://www.whiteroseaikido.com/events/seminar-4/
LOCATION:Dewsbury Sports Centre\, Longcauseway\, Dewsbury\, WF12 8EN
ORGANIZER;CN="White Rose Aikikai":MAILTO:mark@whiteroseaikido.com
END:VEVENT
BEGIN:VEVENT
DTSTART;TZID=Europe/London:20150919T000000
DTEND;TZID=Europe/London:20150919T170000
DTSTAMP:20260423T214315
CREATED:20231227T225757Z
LAST-MODIFIED:20240102T141113Z
UID:8029-1442620800-1442682000@www.whiteroseaikido.com
SUMMARY:Shane Riley Shihan 40th Anniversary Seminar
DESCRIPTION:We will be holding a day course celebrating Riley Shihan's 40th anniversary in aikido. \nMore details can be found here. \n 
URL:https://www.whiteroseaikido.com/events/shane-riley-shihan-40th-anniversary-seminar/
LOCATION:Whitcliffe Mount Sports Centre\, Turnsteads Ave\, BD19 3AQ
ORGANIZER;CN="White Rose Aikikai":MAILTO:mark@whiteroseaikido.com
END:VEVENT
BEGIN:VEVENT
DTSTART;TZID=Europe/London:20150606T110000
DTEND;TZID=Europe/London:20150606T160000
DTSTAMP:20260423T214315
CREATED:20231227T225756Z
LAST-MODIFIED:20240102T141058Z
UID:8028-1433588400-1433606400@www.whiteroseaikido.com
SUMMARY:Seminar
DESCRIPTION:Day Course at Durham\, venue West Gym\, Hild and Bede College\, Durham. 11:00am – 4:00pm£20.00 for BAB members with proof of current insurance\, and £25.00 for all others. \nFor more information click here \n 
URL:https://www.whiteroseaikido.com/events/seminar-3/
LOCATION:Durham University – Hild Bede West Gym\, College of St. Hild and St. Bede\, Durham\, DH1 1SZ
ORGANIZER;CN="Prince Bishops Aikido":MAILTO:princebishopsaikido@gmail.com
END:VEVENT
BEGIN:VEVENT
DTSTART;TZID=Europe/London:20150425T100000
DTEND;TZID=Europe/London:20150426T000000
DTSTAMP:20260423T214315
CREATED:20231227T225756Z
LAST-MODIFIED:20240102T141058Z
UID:8027-1429956000-1430006400@www.whiteroseaikido.com
SUMMARY:Lowestoft Course
DESCRIPTION:Sensei Riley is teaching at a course for Broadlands Aikido. \nFor more details click here
URL:https://www.whiteroseaikido.com/events/lowestoft-course-2/
LOCATION:Nirvana Fitness\, 60 Pinbush Road\, Lowestoft\, NR33 7NL
ORGANIZER;CN="Broadland Aikido Club":MAILTO:broadlandaikido@gmail.com
END:VEVENT
BEGIN:VEVENT
DTSTART;TZID=Europe/London:20150321T120000
DTEND;TZID=Europe/London:20150321T170000
DTSTAMP:20260423T214315
CREATED:20231227T225755Z
LAST-MODIFIED:20240102T141058Z
UID:8026-1426939200-1426957200@www.whiteroseaikido.com
SUMMARY:Seminar
DESCRIPTION:Day Course at Dewsbury Sports Centre 12:00pm – 5:00pm£20.00 for BAB members with proof of current insurance\, and £25.00 for all others. \nClick here for more details
URL:https://www.whiteroseaikido.com/events/seminar-2/
LOCATION:Dewsbury Sports Centre\, Longcauseway\, Dewsbury\, WF12 8EN
ORGANIZER;CN="White Rose Aikikai":MAILTO:mark@whiteroseaikido.com
END:VEVENT
BEGIN:VEVENT
DTSTART;TZID=Europe/London:20141206T110000
DTEND;TZID=Europe/London:20141206T160000
DTSTAMP:20260423T214315
CREATED:20231227T225755Z
LAST-MODIFIED:20240102T141058Z
UID:8025-1417863600-1417881600@www.whiteroseaikido.com
SUMMARY:Seminar
DESCRIPTION:Day Course at Dewsbury Sports Centre 11:00am – 4:00pm£20.00 for BAB members with proof of current insurance\, and £25.00 for all others. \nClick here for more details
URL:https://www.whiteroseaikido.com/events/seminar/
LOCATION:Dewsbury Sports Centre\, Longcauseway\, Dewsbury\, WF12 8EN
ORGANIZER;CN="White Rose Aikikai":MAILTO:mark@whiteroseaikido.com
END:VEVENT
BEGIN:VEVENT
DTSTART;TZID=Europe/London:20141025T000000
DTEND;TZID=Europe/London:20141026T000000
DTSTAMP:20260423T214315
CREATED:20231227T225755Z
LAST-MODIFIED:20240102T141058Z
UID:8024-1414195200-1414281600@www.whiteroseaikido.com
SUMMARY:5th International Friendship Aikido Seminar - Singapore
DESCRIPTION:Sensei Riley is one of the guest instructors at this year’s International Friendship Seminar in Singapore. \nIf anyone would like to come to Singapore with our group\, there is still plenty time to save up and come and enjoy a fantastic experience. Most of the ground work has been done so contact Diane Martin or Sensei Riley for information. \nFor more information about the event and the instructors please click here
URL:https://www.whiteroseaikido.com/events/5th-international-friendship-aikido-seminar-singapore/
LOCATION:West Yorkshire
ORGANIZER;CN="Aikido Shinju-Kai":MAILTO:hq@aikidoshinjukai.com.sg
END:VEVENT
END:VCALENDAR