BEGIN:VCALENDAR
VERSION:2.0
PRODID:-//White Rose Aikikai - ECPv6.15.15//NONSGML v1.0//EN
CALSCALE:GREGORIAN
METHOD:PUBLISH
X-WR-CALNAME:White Rose Aikikai
X-ORIGINAL-URL:https://www.whiteroseaikido.com
X-WR-CALDESC:Events for White Rose Aikikai
REFRESH-INTERVAL;VALUE=DURATION:PT1H
X-Robots-Tag:noindex
X-PUBLISHED-TTL:PT1H
BEGIN:VTIMEZONE
TZID:Europe/London
BEGIN:DAYLIGHT
TZOFFSETFROM:+0000
TZOFFSETTO:+0100
TZNAME:BST
DTSTART:20130331T010000
END:DAYLIGHT
BEGIN:STANDARD
TZOFFSETFROM:+0100
TZOFFSETTO:+0000
TZNAME:GMT
DTSTART:20131027T010000
END:STANDARD
BEGIN:DAYLIGHT
TZOFFSETFROM:+0000
TZOFFSETTO:+0100
TZNAME:BST
DTSTART:20140330T010000
END:DAYLIGHT
BEGIN:STANDARD
TZOFFSETFROM:+0100
TZOFFSETTO:+0000
TZNAME:GMT
DTSTART:20141026T010000
END:STANDARD
BEGIN:DAYLIGHT
TZOFFSETFROM:+0000
TZOFFSETTO:+0100
TZNAME:BST
DTSTART:20150329T010000
END:DAYLIGHT
BEGIN:STANDARD
TZOFFSETFROM:+0100
TZOFFSETTO:+0000
TZNAME:GMT
DTSTART:20151025T010000
END:STANDARD
END:VTIMEZONE
BEGIN:VEVENT
DTSTART;TZID=Europe/London:20140405T100000
DTEND;TZID=Europe/London:20140406T000000
DTSTAMP:20260423T233343
CREATED:20231227T223544Z
LAST-MODIFIED:20240102T141041Z
UID:8012-1396692000-1396742400@www.whiteroseaikido.com
SUMMARY:Lowestoft Course
DESCRIPTION:Sensei Riley is teaching at a course for Broadlands Aikido. \nFor more details click here
URL:https://www.whiteroseaikido.com/events/lowestoft-course/
LOCATION:Nirvana Fitness\, 60 Pinbush Road\, Lowestoft\, NR33 7NL
ORGANIZER;CN="Broadland Aikido Club":MAILTO:broadlandaikido@gmail.com
END:VEVENT
BEGIN:VEVENT
DTSTART;TZID=Europe/London:20140325T203000
DTEND;TZID=Europe/London:20140325T220000
DTSTAMP:20260423T233343
CREATED:20231227T223544Z
LAST-MODIFIED:20240102T141041Z
UID:8011-1395779400-1395784800@www.whiteroseaikido.com
SUMMARY:Weapons Class
DESCRIPTION:Sensei Riley will be holding a weapons class\, with live blades for seniors and wooden weapons for junior grades.If you currently own an appropriate live blade\, please bring it along to the class.
URL:https://www.whiteroseaikido.com/events/weapons-class-2/
LOCATION:Dewsbury Sports Centre\, Longcauseway\, Dewsbury\, WF12 8EN
ORGANIZER;CN="White Rose Aikikai":MAILTO:mark@whiteroseaikido.com
END:VEVENT
BEGIN:VEVENT
DTSTART;TZID=Europe/London:20140304T203000
DTEND;TZID=Europe/London:20140304T220000
DTSTAMP:20260423T233343
CREATED:20231227T223544Z
LAST-MODIFIED:20240102T141040Z
UID:8010-1393965000-1393970400@www.whiteroseaikido.com
SUMMARY:Class cancelled
DESCRIPTION:No class this evening due to sports centre activities.
URL:https://www.whiteroseaikido.com/events/class-cancelled/
LOCATION:Dewsbury Sports Centre\, Longcauseway\, Dewsbury\, WF12 8EN
ORGANIZER;CN="White Rose Aikikai":MAILTO:mark@whiteroseaikido.com
END:VEVENT
BEGIN:VEVENT
DTSTART;TZID=Europe/London:20140218T203000
DTEND;TZID=Europe/London:20140218T220000
DTSTAMP:20260423T233343
CREATED:20231227T223544Z
LAST-MODIFIED:20240102T141040Z
UID:8009-1392755400-1392760800@www.whiteroseaikido.com
SUMMARY:Weapons Class
DESCRIPTION:Sensei Riley will be holding a weapons class\, with live blades for seniors and wooden weapons for junior grades.If you currently own an appropriate live blade\, please bring it along to the class.
URL:https://www.whiteroseaikido.com/events/weapons-class/
LOCATION:Dewsbury Sports Centre\, Longcauseway\, Dewsbury\, WF12 8EN
ORGANIZER;CN="White Rose Aikikai":MAILTO:mark@whiteroseaikido.com
END:VEVENT
END:VCALENDAR