BEGIN:VCALENDAR
VERSION:2.0
PRODID:-//White Rose Aikikai - ECPv6.15.15//NONSGML v1.0//EN
CALSCALE:GREGORIAN
METHOD:PUBLISH
X-WR-CALNAME:White Rose Aikikai
X-ORIGINAL-URL:https://www.whiteroseaikido.com
X-WR-CALDESC:Events for White Rose Aikikai
REFRESH-INTERVAL;VALUE=DURATION:PT1H
X-Robots-Tag:noindex
X-PUBLISHED-TTL:PT1H
BEGIN:VTIMEZONE
TZID:Europe/London
BEGIN:DAYLIGHT
TZOFFSETFROM:+0000
TZOFFSETTO:+0100
TZNAME:BST
DTSTART:20250330T010000
END:DAYLIGHT
BEGIN:STANDARD
TZOFFSETFROM:+0100
TZOFFSETTO:+0000
TZNAME:GMT
DTSTART:20251026T010000
END:STANDARD
BEGIN:DAYLIGHT
TZOFFSETFROM:+0000
TZOFFSETTO:+0100
TZNAME:BST
DTSTART:20260329T010000
END:DAYLIGHT
BEGIN:STANDARD
TZOFFSETFROM:+0100
TZOFFSETTO:+0000
TZNAME:GMT
DTSTART:20261025T010000
END:STANDARD
BEGIN:DAYLIGHT
TZOFFSETFROM:+0000
TZOFFSETTO:+0100
TZNAME:BST
DTSTART:20270328T010000
END:DAYLIGHT
BEGIN:STANDARD
TZOFFSETFROM:+0100
TZOFFSETTO:+0000
TZNAME:GMT
DTSTART:20271031T010000
END:STANDARD
END:VTIMEZONE
BEGIN:VEVENT
DTSTART;TZID=Europe/London:20260606T110000
DTEND;TZID=Europe/London:20260607T133000
DTSTAMP:20260423T213925
CREATED:20251121T125946Z
LAST-MODIFIED:20260413T102445Z
UID:8389-1780743600-1780839000@www.whiteroseaikido.com
SUMMARY:Lowestoft Course 2026
DESCRIPTION:Riley Shihan will be teaching a day and a half seminar at Broadland Aikido Club.
URL:https://www.whiteroseaikido.com/events/lowestoft-course-2026/
LOCATION:The East Anglian Martial Arts Centre\, 163 Bridge Road\, Lowestoft\, NR33 9JU
ORGANIZER;CN="White Rose Aikikai":MAILTO:mark@whiteroseaikido.com
END:VEVENT
END:VCALENDAR